BEGIN:VCALENDAR
VERSION:2.0
CALSCALE:GREGORIAN
PRODID:UnionActive
BEGIN:VEVENT
UID:5538084@ibew2.org
SUMMARY:Mexico Unit - Consolidated 
DESCRIPTION:Contact:  \nLink for more information: http://ibew2.org/index.cfm?zone=/unionactive/view_calendar.cfm&calendarID=5538084&thisdate=08/14/2012&useCalSection=main
LOCATION:Cooperative Headquarters,
Hwy 54 East,
Mexico, MO
URL:http://ibew2.org/index.cfm?zone=/unionactive/view_calendar.cfm&calendarID=5538084&thisdate=08/14/2012&useCalSection=main
DTSTART:20120814T203000Z
DTEND:20120814T213000Z
DTSTAMP:20260419T181509
TRIGGER:-PT60M
END:VEVENT
END:VCALENDAR
