BEGIN:VCALENDAR
VERSION:2.0
CALSCALE:GREGORIAN
PRODID:UnionActive
BEGIN:VEVENT
UID:5538082@ibew2.org
SUMMARY:Macon Unit Meeting
DESCRIPTION:Contact:  \nLink for more information: http://ibew2.org/index.cfm?zone=/unionactive/view_calendar.cfm&calendarID=5538082&thisdate=09/18/2012&useCalSection=main
LOCATION:Cooperative Headquarters, 
Business Hwy 36 East,
Macon, MO
URL:http://ibew2.org/index.cfm?zone=/unionactive/view_calendar.cfm&calendarID=5538082&thisdate=09/18/2012&useCalSection=main
DTSTART:20120918T213000Z
DTEND:20120918T223000Z
DTSTAMP:20260419T181436
TRIGGER:-PT60M
END:VEVENT
END:VCALENDAR
