BEGIN:VCALENDAR
VERSION:2.0
CALSCALE:GREGORIAN
PRODID:UnionActive
BEGIN:VEVENT
UID:5538078@ibew2.org
SUMMARY:Linn Unit Meeting
DESCRIPTION:Contact:  \nLink for more information: http://ibew2.org/index.cfm?zone=/unionactive/view_calendar.cfm&calendarID=5538078&thisdate=08/02/2012&useCalSection=main
LOCATION:Cooperative Headquarters,
1324 East Main, Linn, MO
URL:http://ibew2.org/index.cfm?zone=/unionactive/view_calendar.cfm&calendarID=5538078&thisdate=08/02/2012&useCalSection=main
DTSTART:20120802T203000Z
DTEND:20120802T213000Z
DTSTAMP:20260419T195739
TRIGGER:-PT60M
END:VEVENT
END:VCALENDAR
