BEGIN:VCALENDAR
VERSION:2.0
CALSCALE:GREGORIAN
PRODID:UnionActive
BEGIN:VEVENT
UID:5538077@ibew2.org
SUMMARY:Lewistown Unit Meeting
DESCRIPTION:Contact:  \nLink for more information: http://ibew2.org/index.cfm?zone=/unionactive/view_calendar.cfm&calendarID=5538077&thisdate=12/12/2012&useCalSection=main
LOCATION:Lewistown Fire Department,
104 N Cherry,
Lewistown, MO
URL:http://ibew2.org/index.cfm?zone=/unionactive/view_calendar.cfm&calendarID=5538077&thisdate=12/12/2012&useCalSection=main
DTSTART:20121212T223000Z
DTEND:20121212T233000Z
DTSTAMP:20260419T181412
TRIGGER:-PT60M
END:VEVENT
END:VCALENDAR
