BEGIN:VCALENDAR
VERSION:2.0
CALSCALE:GREGORIAN
PRODID:UnionActive
BEGIN:VEVENT
UID:5538076@ibew2.org
SUMMARY:Lewistown Unit Meeting
DESCRIPTION:Contact:  \nLink for more information: http://ibew2.org/index.cfm?zone=/unionactive/view_calendar.cfm&calendarID=5538076&thisdate=10/10/2012&useCalSection=main
LOCATION:Lewistown Fire Department
104 N Cherry
Lewistown, MO
URL:http://ibew2.org/index.cfm?zone=/unionactive/view_calendar.cfm&calendarID=5538076&thisdate=10/10/2012&useCalSection=main
DTSTART:20121010T213000Z
DTEND:20121010T223000Z
DTSTAMP:20260419T195028
TRIGGER:-PT60M
END:VEVENT
END:VCALENDAR
