BEGIN:VCALENDAR
VERSION:2.0
CALSCALE:GREGORIAN
PRODID:UnionActive
BEGIN:VEVENT
UID:5538075@ibew2.org
SUMMARY:Lewistown Unit Meeting
DESCRIPTION:Contact:  \nLink for more information: http://ibew2.org/index.cfm?zone=/unionactive/view_calendar.cfm&calendarID=5538075&thisdate=08/08/2012&useCalSection=main
LOCATION:Lewistown Fire Department
104 N cherry
Lewistown, MO
URL:http://ibew2.org/index.cfm?zone=/unionactive/view_calendar.cfm&calendarID=5538075&thisdate=08/08/2012&useCalSection=main
DTSTART:20120808T213000Z
DTEND:20120808T223000Z
DTSTAMP:20260419T181459
TRIGGER:-PT60M
END:VEVENT
END:VCALENDAR
