BEGIN:VCALENDAR
VERSION:2.0
CALSCALE:GREGORIAN
PRODID:UnionActive
BEGIN:VEVENT
UID:5538070@ibew2.org
SUMMARY:Kirksville Unit Meeting
DESCRIPTION:Contact:  \nLink for more information: http://ibew2.org/index.cfm?zone=/unionactive/view_calendar.cfm&calendarID=5538070&thisdate=11/08/2012&useCalSection=main
LOCATION:Company Headquarters
204 W Cottonwood
Kirksville, MO
URL:http://ibew2.org/index.cfm?zone=/unionactive/view_calendar.cfm&calendarID=5538070&thisdate=11/08/2012&useCalSection=main
DTSTART:20121108T223000Z
DTEND:20121108T233000Z
DTSTAMP:20260419T181810
TRIGGER:-PT60M
END:VEVENT
END:VCALENDAR
