BEGIN:VCALENDAR
VERSION:2.0
CALSCALE:GREGORIAN
PRODID:UnionActive
BEGIN:VEVENT
UID:5538068@ibew2.org
SUMMARY:Kirksville Unit Meeting
DESCRIPTION:Contact:  \nLink for more information: http://ibew2.org/index.cfm?zone=/unionactive/view_calendar.cfm&calendarID=5538068&thisdate=07/12/2012&useCalSection=main
LOCATION:Company Headquarters
204 W. Cottonwood
Kirksville, MO
URL:http://ibew2.org/index.cfm?zone=/unionactive/view_calendar.cfm&calendarID=5538068&thisdate=07/12/2012&useCalSection=main
DTSTART:20120712T213000Z
DTEND:20120712T223000Z
DTSTAMP:20260419T181529
TRIGGER:-PT60M
END:VEVENT
END:VCALENDAR
