BEGIN:VCALENDAR
VERSION:2.0
CALSCALE:GREGORIAN
PRODID:UnionActive
BEGIN:VEVENT
UID:5538066@ibew2.org
SUMMARY:Jefferson City - CenturyLink
DESCRIPTION:Contact:  \nLink for more information: http://ibew2.org/index.cfm?zone=/unionactive/view_calendar.cfm&calendarID=5538066&thisdate=10/25/2012&useCalSection=main
LOCATION:Labor Temple
209  Flora Drive
Jefferson City, MO
URL:http://ibew2.org/index.cfm?zone=/unionactive/view_calendar.cfm&calendarID=5538066&thisdate=10/25/2012&useCalSection=main
DTSTART:20121025T223000Z
DTEND:20121025T233000Z
DTSTAMP:20260420T005211
TRIGGER:-PT60M
END:VEVENT
END:VCALENDAR
