BEGIN:VCALENDAR
VERSION:2.0
CALSCALE:GREGORIAN
PRODID:UnionActive
BEGIN:VEVENT
UID:5538064@ibew2.org
SUMMARY:Jefferson City - Ameren/Central
DESCRIPTION:Contact:  \nLink for more information: http://ibew2.org/index.cfm?zone=/unionactive/view_calendar.cfm&calendarID=5538064&thisdate=11/29/2012&useCalSection=main
LOCATION:Labor Temple
209 Flora Drive
Jefferson City, MO
URL:http://ibew2.org/index.cfm?zone=/unionactive/view_calendar.cfm&calendarID=5538064&thisdate=11/29/2012&useCalSection=main
DTSTART:20121129T230000Z
DTEND:20121130T000000Z
DTSTAMP:20260419T181607
TRIGGER:-PT60M
END:VEVENT
END:VCALENDAR
