BEGIN:VCALENDAR
VERSION:2.0
CALSCALE:GREGORIAN
PRODID:UnionActive
BEGIN:VEVENT
UID:5537978@ibew2.org
SUMMARY:Hannibal Unit Meeting
DESCRIPTION:Contact:  \nLink for more information: http://ibew2.org/index.cfm?zone=/unionactive/view_calendar.cfm&calendarID=5537978&thisdate=10/18/2012&useCalSection=main
LOCATION:IBEW Local 350
801 Church Street
Hannibal, MO
URL:http://ibew2.org/index.cfm?zone=/unionactive/view_calendar.cfm&calendarID=5537978&thisdate=10/18/2012&useCalSection=main
DTSTART:20121018T210000Z
DTEND:20121018T220000Z
DTSTAMP:20260419T100046
TRIGGER:-PT60M
END:VEVENT
END:VCALENDAR
