BEGIN:VCALENDAR
VERSION:2.0
CALSCALE:GREGORIAN
PRODID:UnionActive
BEGIN:VEVENT
UID:5537964@ibew2.org
SUMMARY:Cuivre River Unit Meeting
DESCRIPTION:Contact:  \nLink for more information: http://ibew2.org/index.cfm?zone=/unionactive/view_calendar.cfm&calendarID=5537964&thisdate=10/09/2012&useCalSection=main
LOCATION:Lake St. Louis Branch Office
1732 Prospect Road
Wentzville, MO
URL:http://ibew2.org/index.cfm?zone=/unionactive/view_calendar.cfm&calendarID=5537964&thisdate=10/09/2012&useCalSection=main
DTSTART:20121009T210000Z
DTEND:20121009T220000Z
DTSTAMP:20260419T132058
TRIGGER:-PT60M
END:VEVENT
END:VCALENDAR
