BEGIN:VCALENDAR
VERSION:2.0
CALSCALE:GREGORIAN
PRODID:UnionActive
BEGIN:VEVENT
UID:5537963@ibew2.org
SUMMARY:Cuivre River Unit Meeting
DESCRIPTION:Contact:  \nLink for more information: http://ibew2.org/index.cfm?zone=/unionactive/view_calendar.cfm&calendarID=5537963&thisdate=07/10/2012&useCalSection=main
LOCATION:Cooperative Headquarters
1112 East Cherry Street
Troy, MO
URL:http://ibew2.org/index.cfm?zone=/unionactive/view_calendar.cfm&calendarID=5537963&thisdate=07/10/2012&useCalSection=main
DTSTART:20120710T210000Z
DTEND:20120710T220000Z
DTSTAMP:20260419T194938
TRIGGER:-PT60M
END:VEVENT
END:VCALENDAR
