BEGIN:VCALENDAR
VERSION:2.0
CALSCALE:GREGORIAN
PRODID:UnionActive
BEGIN:VEVENT
UID:5537959@ibew2.org
SUMMARY:Chillicothe Unit Meeting
DESCRIPTION:Contact:  \nLink for more information: http://ibew2.org/index.cfm?zone=/unionactive/view_calendar.cfm&calendarID=5537959&thisdate=11/15/2012&useCalSection=main
LOCATION:Royal Inn Pizza
750 South Washington
Chillicothe, MO
URL:http://ibew2.org/index.cfm?zone=/unionactive/view_calendar.cfm&calendarID=5537959&thisdate=11/15/2012&useCalSection=main
DTSTART:20121116T003000Z
DTEND:20121116T013000Z
DTSTAMP:20260419T164404
TRIGGER:-PT60M
END:VEVENT
END:VCALENDAR
