BEGIN:VCALENDAR
VERSION:2.0
CALSCALE:GREGORIAN
PRODID:UnionActive
BEGIN:VEVENT
UID:5537954@ibew2.org
SUMMARY:Bourbon Unit Meeting
DESCRIPTION:Contact:  \nLink for more information: http://ibew2.org/index.cfm?zone=/unionactive/view_calendar.cfm&calendarID=5537954&thisdate=08/21/2012&useCalSection=main
LOCATION:Crawford Electric Cooperative
Service Building
URL:http://ibew2.org/index.cfm?zone=/unionactive/view_calendar.cfm&calendarID=5537954&thisdate=08/21/2012&useCalSection=main
DTSTART:20120821T213000Z
DTEND:20120821T223000Z
DTSTAMP:20260419T163944
TRIGGER:-PT60M
END:VEVENT
END:VCALENDAR
