BEGIN:VCALENDAR
VERSION:2.0
CALSCALE:GREGORIAN
PRODID:UnionActive
BEGIN:VEVENT
UID:11869080@ibew2.org
SUMMARY:Macon Electric Cooperative Unit Meeting
DESCRIPTION:Contact:  \nLink for more information: http://ibew2.org/index.cfm?zone=/unionactive/view_calendar.cfm&calendarID=11869080&thisdate=07/18/2045&useCalSection=main
LOCATION:
URL:http://ibew2.org/index.cfm?zone=/unionactive/view_calendar.cfm&calendarID=11869080&thisdate=07/18/2045&useCalSection=main
DTSTART:20450718T203000Z
DTEND:20450718T213000Z
DTSTAMP:20260419T164921
TRIGGER:-PT60M
END:VEVENT
END:VCALENDAR
