BEGIN:VCALENDAR
VERSION:2.0
CALSCALE:GREGORIAN
PRODID:UnionActive
BEGIN:VEVENT
UID:11869069@ibew2.org
SUMMARY:Macon Electric Cooperative Unit Meeting
DESCRIPTION:Contact:  \nLink for more information: http://ibew2.org/index.cfm?zone=/unionactive/view_calendar.cfm&calendarID=11869069&thisdate=09/15/2043&useCalSection=main
LOCATION:
URL:http://ibew2.org/index.cfm?zone=/unionactive/view_calendar.cfm&calendarID=11869069&thisdate=09/15/2043&useCalSection=main
DTSTART:20430915T203000Z
DTEND:20430915T213000Z
DTSTAMP:20260419T202048
TRIGGER:-PT60M
END:VEVENT
END:VCALENDAR
