BEGIN:VCALENDAR
VERSION:2.0
CALSCALE:GREGORIAN
PRODID:UnionActive
BEGIN:VEVENT
UID:11869057@ibew2.org
SUMMARY:Macon Electric Cooperative Unit Meeting
DESCRIPTION:Contact:  \nLink for more information: http://ibew2.org/index.cfm?zone=/unionactive/view_calendar.cfm&calendarID=11869057&thisdate=09/17/2041&useCalSection=main
LOCATION:
URL:http://ibew2.org/index.cfm?zone=/unionactive/view_calendar.cfm&calendarID=11869057&thisdate=09/17/2041&useCalSection=main
DTSTART:20410917T203000Z
DTEND:20410917T213000Z
DTSTAMP:20260419T183817
TRIGGER:-PT60M
END:VEVENT
END:VCALENDAR
