BEGIN:VCALENDAR
VERSION:2.0
CALSCALE:GREGORIAN
PRODID:UnionActive
BEGIN:VEVENT
UID:11869046@ibew2.org
SUMMARY:Macon Electric Cooperative Unit Meeting
DESCRIPTION:Contact:  \nLink for more information: http://ibew2.org/index.cfm?zone=/unionactive/view_calendar.cfm&calendarID=11869046&thisdate=11/15/2039&useCalSection=main
LOCATION:
URL:http://ibew2.org/index.cfm?zone=/unionactive/view_calendar.cfm&calendarID=11869046&thisdate=11/15/2039&useCalSection=main
DTSTART:20391115T213000Z
DTEND:20391115T223000Z
DTSTAMP:20260419T100619
TRIGGER:-PT60M
END:VEVENT
END:VCALENDAR
