BEGIN:VCALENDAR
VERSION:2.0
CALSCALE:GREGORIAN
PRODID:UnionActive
BEGIN:VEVENT
UID:11869038@ibew2.org
SUMMARY:Macon Electric Cooperative Unit Meeting
DESCRIPTION:Contact:  \nLink for more information: http://ibew2.org/index.cfm?zone=/unionactive/view_calendar.cfm&calendarID=11869038&thisdate=07/20/2038&useCalSection=main
LOCATION:
URL:http://ibew2.org/index.cfm?zone=/unionactive/view_calendar.cfm&calendarID=11869038&thisdate=07/20/2038&useCalSection=main
DTSTART:20380720T203000Z
DTEND:20380720T213000Z
DTSTAMP:20260419T184235
TRIGGER:-PT60M
END:VEVENT
END:VCALENDAR
