BEGIN:VCALENDAR
VERSION:2.0
CALSCALE:GREGORIAN
PRODID:UnionActive
BEGIN:VEVENT
UID:11869037@ibew2.org
SUMMARY:Macon Electric Cooperative Unit Meeting
DESCRIPTION:Contact:  \nLink for more information: http://ibew2.org/index.cfm?zone=/unionactive/view_calendar.cfm&calendarID=11869037&thisdate=05/18/2038&useCalSection=main
LOCATION:
URL:http://ibew2.org/index.cfm?zone=/unionactive/view_calendar.cfm&calendarID=11869037&thisdate=05/18/2038&useCalSection=main
DTSTART:20380518T203000Z
DTEND:20380518T213000Z
DTSTAMP:20260419T165858
TRIGGER:-PT60M
END:VEVENT
END:VCALENDAR
