BEGIN:VCALENDAR
VERSION:2.0
CALSCALE:GREGORIAN
PRODID:UnionActive
BEGIN:VEVENT
UID:11869034@ibew2.org
SUMMARY:Macon Electric Cooperative Unit Meeting
DESCRIPTION:Contact:  \nLink for more information: http://ibew2.org/index.cfm?zone=/unionactive/view_calendar.cfm&calendarID=11869034&thisdate=11/17/2037&useCalSection=main
LOCATION:
URL:http://ibew2.org/index.cfm?zone=/unionactive/view_calendar.cfm&calendarID=11869034&thisdate=11/17/2037&useCalSection=main
DTSTART:20371117T213000Z
DTEND:20371117T223000Z
DTSTAMP:20260419T132550
TRIGGER:-PT60M
END:VEVENT
END:VCALENDAR
