BEGIN:VCALENDAR
VERSION:2.0
CALSCALE:GREGORIAN
PRODID:UnionActive
BEGIN:VEVENT
UID:11868994@ibew2.org
SUMMARY:Macon Electric Cooperative Unit Meeting
DESCRIPTION:Contact:  \nLink for more information: http://ibew2.org/index.cfm?zone=/unionactive/view_calendar.cfm&calendarID=11868994&thisdate=03/18/2031&useCalSection=main
LOCATION:
URL:http://ibew2.org/index.cfm?zone=/unionactive/view_calendar.cfm&calendarID=11868994&thisdate=03/18/2031&useCalSection=main
DTSTART:20310318T203000Z
DTEND:20310318T213000Z
DTSTAMP:20260419T233203
TRIGGER:-PT60M
END:VEVENT
END:VCALENDAR
