BEGIN:VCALENDAR
VERSION:2.0
CALSCALE:GREGORIAN
PRODID:UnionActive
BEGIN:VEVENT
UID:11868973@ibew2.org
SUMMARY:Macon Electric Cooperative Unit Meeting
DESCRIPTION:Contact:  \nLink for more information: http://ibew2.org/index.cfm?zone=/unionactive/view_calendar.cfm&calendarID=11868973&thisdate=09/21/2027&useCalSection=main
LOCATION:
URL:http://ibew2.org/index.cfm?zone=/unionactive/view_calendar.cfm&calendarID=11868973&thisdate=09/21/2027&useCalSection=main
DTSTART:20270921T203000Z
DTEND:20270921T213000Z
DTSTAMP:20260419T164951
TRIGGER:-PT60M
END:VEVENT
END:VCALENDAR
