BEGIN:VCALENDAR
VERSION:2.0
CALSCALE:GREGORIAN
PRODID:UnionActive
BEGIN:VEVENT
UID:11868965@ibew2.org
SUMMARY:Macon Electric Cooperative Unit Meeting
DESCRIPTION:Contact:  \nLink for more information: http://ibew2.org/index.cfm?zone=/unionactive/view_calendar.cfm&calendarID=11868965&thisdate=05/19/2026&useCalSection=main
LOCATION:
URL:http://ibew2.org/index.cfm?zone=/unionactive/view_calendar.cfm&calendarID=11868965&thisdate=05/19/2026&useCalSection=main
DTSTART:20260519T203000Z
DTEND:20260519T213000Z
DTSTAMP:20260419T183138
TRIGGER:-PT60M
END:VEVENT
END:VCALENDAR
