BEGIN:VCALENDAR
VERSION:2.0
CALSCALE:GREGORIAN
PRODID:UnionActive
BEGIN:VEVENT
UID:11868958@ibew2.org
SUMMARY:Macon Electric Cooperative Unit Meeting
DESCRIPTION:Contact:  \nLink for more information: http://ibew2.org/index.cfm?zone=/unionactive/view_calendar.cfm&calendarID=11868958&thisdate=03/18/2025&useCalSection=main
LOCATION:
URL:http://ibew2.org/index.cfm?zone=/unionactive/view_calendar.cfm&calendarID=11868958&thisdate=03/18/2025&useCalSection=main
DTSTART:20250318T203000Z
DTEND:20250318T213000Z
DTSTAMP:20260419T220135
TRIGGER:-PT60M
END:VEVENT
END:VCALENDAR
