BEGIN:VCALENDAR
VERSION:2.0
CALSCALE:GREGORIAN
PRODID:UnionActive
BEGIN:VEVENT
UID:11840008@ibew2.org
SUMMARY:CenturyLink Unit Meeting
DESCRIPTION:Contact:  \nLink for more information: http://ibew2.org/index.cfm?zone=/unionactive/view_calendar.cfm&calendarID=11840008&thisdate=08/31/2045&useCalSection=main
LOCATION:
URL:http://ibew2.org/index.cfm?zone=/unionactive/view_calendar.cfm&calendarID=11840008&thisdate=08/31/2045&useCalSection=main
DTSTART:20450831T223000Z
DTEND:20450831T223000Z
DTSTAMP:20260419T200407
TRIGGER:-PT60M
END:VEVENT
END:VCALENDAR
