BEGIN:VCALENDAR
VERSION:2.0
CALSCALE:GREGORIAN
PRODID:UnionActive
BEGIN:VEVENT
UID:11840004@ibew2.org
SUMMARY:CenturyLink Unit Meeting
DESCRIPTION:Contact:  \nLink for more information: http://ibew2.org/index.cfm?zone=/unionactive/view_calendar.cfm&calendarID=11840004&thisdate=12/29/2044&useCalSection=main
LOCATION:
URL:http://ibew2.org/index.cfm?zone=/unionactive/view_calendar.cfm&calendarID=11840004&thisdate=12/29/2044&useCalSection=main
DTSTART:20441229T233000Z
DTEND:20441229T233000Z
DTSTAMP:20260419T182422
TRIGGER:-PT60M
END:VEVENT
END:VCALENDAR
