BEGIN:VCALENDAR
VERSION:2.0
CALSCALE:GREGORIAN
PRODID:UnionActive
BEGIN:VEVENT
UID:11839991@ibew2.org
SUMMARY:CenturyLink Unit Meeting
DESCRIPTION:Contact:  \nLink for more information: http://ibew2.org/index.cfm?zone=/unionactive/view_calendar.cfm&calendarID=11839991&thisdate=10/30/2042&useCalSection=main
LOCATION:
URL:http://ibew2.org/index.cfm?zone=/unionactive/view_calendar.cfm&calendarID=11839991&thisdate=10/30/2042&useCalSection=main
DTSTART:20421030T223000Z
DTEND:20421030T223000Z
DTSTAMP:20260419T234705
TRIGGER:-PT60M
END:VEVENT
END:VCALENDAR
