BEGIN:VCALENDAR
VERSION:2.0
CALSCALE:GREGORIAN
PRODID:UnionActive
BEGIN:VEVENT
UID:11839985@ibew2.org
SUMMARY:CenturyLink Unit Meeting
DESCRIPTION:Contact:  \nLink for more information: http://ibew2.org/index.cfm?zone=/unionactive/view_calendar.cfm&calendarID=11839985&thisdate=10/31/2041&useCalSection=main
LOCATION:
URL:http://ibew2.org/index.cfm?zone=/unionactive/view_calendar.cfm&calendarID=11839985&thisdate=10/31/2041&useCalSection=main
DTSTART:20411031T223000Z
DTEND:20411031T223000Z
DTSTAMP:20260419T100056
TRIGGER:-PT60M
END:VEVENT
END:VCALENDAR
