BEGIN:VCALENDAR
VERSION:2.0
CALSCALE:GREGORIAN
PRODID:UnionActive
BEGIN:VEVENT
UID:11839978@ibew2.org
SUMMARY:CenturyLink Unit Meeting
DESCRIPTION:Contact:  \nLink for more information: http://ibew2.org/index.cfm?zone=/unionactive/view_calendar.cfm&calendarID=11839978&thisdate=08/30/2040&useCalSection=main
LOCATION:
URL:http://ibew2.org/index.cfm?zone=/unionactive/view_calendar.cfm&calendarID=11839978&thisdate=08/30/2040&useCalSection=main
DTSTART:20400830T223000Z
DTEND:20400830T223000Z
DTSTAMP:20260419T200335
TRIGGER:-PT60M
END:VEVENT
END:VCALENDAR
