BEGIN:VCALENDAR
VERSION:2.0
CALSCALE:GREGORIAN
PRODID:UnionActive
BEGIN:VEVENT
UID:11839971@ibew2.org
SUMMARY:CenturyLink Unit Meeting
DESCRIPTION:Contact:  \nLink for more information: http://ibew2.org/index.cfm?zone=/unionactive/view_calendar.cfm&calendarID=11839971&thisdate=06/30/2039&useCalSection=main
LOCATION:
URL:http://ibew2.org/index.cfm?zone=/unionactive/view_calendar.cfm&calendarID=11839971&thisdate=06/30/2039&useCalSection=main
DTSTART:20390630T223000Z
DTEND:20390630T223000Z
DTSTAMP:20260419T182529
TRIGGER:-PT60M
END:VEVENT
END:VCALENDAR
