BEGIN:VCALENDAR
VERSION:2.0
CALSCALE:GREGORIAN
PRODID:UnionActive
BEGIN:VEVENT
UID:11839964@ibew2.org
SUMMARY:CenturyLink Unit Meeting
DESCRIPTION:Contact:  \nLink for more information: http://ibew2.org/index.cfm?zone=/unionactive/view_calendar.cfm&calendarID=11839964&thisdate=04/29/2038&useCalSection=main
LOCATION:
URL:http://ibew2.org/index.cfm?zone=/unionactive/view_calendar.cfm&calendarID=11839964&thisdate=04/29/2038&useCalSection=main
DTSTART:20380429T223000Z
DTEND:20380429T223000Z
DTSTAMP:20260420T010226
TRIGGER:-PT60M
END:VEVENT
END:VCALENDAR
