BEGIN:VCALENDAR
VERSION:2.0
CALSCALE:GREGORIAN
PRODID:UnionActive
BEGIN:VEVENT
UID:11839867@ibew2.org
SUMMARY:CenturyLink Unit Meeting
DESCRIPTION:Contact:  \nLink for more information: http://ibew2.org/index.cfm?zone=/unionactive/view_calendar.cfm&calendarID=11839867&thisdate=02/24/2022&useCalSection=main
LOCATION:
URL:http://ibew2.org/index.cfm?zone=/unionactive/view_calendar.cfm&calendarID=11839867&thisdate=02/24/2022&useCalSection=main
DTSTART:20220224T233000Z
DTEND:20220224T233000Z
DTSTAMP:20260419T151653
TRIGGER:-PT60M
END:VEVENT
END:VCALENDAR
