BEGIN:VCALENDAR
VERSION:2.0
CALSCALE:GREGORIAN
PRODID:UnionActive
BEGIN:VEVENT
UID:11839558@ibew2.org
SUMMARY:Callaway Electric Cooperative Unit Meeting
DESCRIPTION:Contact:  \nLink for more information: http://ibew2.org/index.cfm?zone=/unionactive/view_calendar.cfm&calendarID=11839558&thisdate=09/20/2045&useCalSection=main
LOCATION:
URL:http://ibew2.org/index.cfm?zone=/unionactive/view_calendar.cfm&calendarID=11839558&thisdate=09/20/2045&useCalSection=main
DTSTART:20450920T210000Z
DTEND:20450920T210000Z
DTSTAMP:20260419T183048
TRIGGER:-PT60M
END:VEVENT
END:VCALENDAR
