BEGIN:VCALENDAR
VERSION:2.0
CALSCALE:GREGORIAN
PRODID:UnionActive
BEGIN:VEVENT
UID:11839543@ibew2.org
SUMMARY:Callaway Electric Cooperative Unit Meeting
DESCRIPTION:Contact:  \nLink for more information: http://ibew2.org/index.cfm?zone=/unionactive/view_calendar.cfm&calendarID=11839543&thisdate=03/18/2043&useCalSection=main
LOCATION:
URL:http://ibew2.org/index.cfm?zone=/unionactive/view_calendar.cfm&calendarID=11839543&thisdate=03/18/2043&useCalSection=main
DTSTART:20430318T210000Z
DTEND:20430318T210000Z
DTSTAMP:20260419T065022
TRIGGER:-PT60M
END:VEVENT
END:VCALENDAR
