BEGIN:VCALENDAR
VERSION:2.0
CALSCALE:GREGORIAN
PRODID:UnionActive
BEGIN:VEVENT
UID:11839528@ibew2.org
SUMMARY:Callaway Electric Cooperative Unit Meeting
DESCRIPTION:Contact:  \nLink for more information: http://ibew2.org/index.cfm?zone=/unionactive/view_calendar.cfm&calendarID=11839528&thisdate=09/19/2040&useCalSection=main
LOCATION:
URL:http://ibew2.org/index.cfm?zone=/unionactive/view_calendar.cfm&calendarID=11839528&thisdate=09/19/2040&useCalSection=main
DTSTART:20400919T210000Z
DTEND:20400919T210000Z
DTSTAMP:20260419T184454
TRIGGER:-PT60M
END:VEVENT
END:VCALENDAR
