BEGIN:VCALENDAR
VERSION:2.0
CALSCALE:GREGORIAN
PRODID:UnionActive
BEGIN:VEVENT
UID:11839523@ibew2.org
SUMMARY:Callaway Electric Cooperative Unit Meeting
DESCRIPTION:Contact:  \nLink for more information: http://ibew2.org/index.cfm?zone=/unionactive/view_calendar.cfm&calendarID=11839523&thisdate=11/16/2039&useCalSection=main
LOCATION:
URL:http://ibew2.org/index.cfm?zone=/unionactive/view_calendar.cfm&calendarID=11839523&thisdate=11/16/2039&useCalSection=main
DTSTART:20391116T220000Z
DTEND:20391116T220000Z
DTSTAMP:20260419T202118
TRIGGER:-PT60M
END:VEVENT
END:VCALENDAR
