BEGIN:VCALENDAR
VERSION:2.0
CALSCALE:GREGORIAN
PRODID:UnionActive
BEGIN:VEVENT
UID:11839512@ibew2.org
SUMMARY:Callaway Electric Cooperative Unit Meeting
DESCRIPTION:Contact:  \nLink for more information: http://ibew2.org/index.cfm?zone=/unionactive/view_calendar.cfm&calendarID=11839512&thisdate=01/20/2038&useCalSection=main
LOCATION:
URL:http://ibew2.org/index.cfm?zone=/unionactive/view_calendar.cfm&calendarID=11839512&thisdate=01/20/2038&useCalSection=main
DTSTART:20380120T220000Z
DTEND:20380120T220000Z
DTSTAMP:20260419T200548
TRIGGER:-PT60M
END:VEVENT
END:VCALENDAR
