BEGIN:VCALENDAR
VERSION:2.0
CALSCALE:GREGORIAN
PRODID:UnionActive
BEGIN:VEVENT
UID:11839494@ibew2.org
SUMMARY:Callaway Electric Cooperative Unit Meeting
DESCRIPTION:Contact:  \nLink for more information: http://ibew2.org/index.cfm?zone=/unionactive/view_calendar.cfm&calendarID=11839494&thisdate=01/17/2035&useCalSection=main
LOCATION:
URL:http://ibew2.org/index.cfm?zone=/unionactive/view_calendar.cfm&calendarID=11839494&thisdate=01/17/2035&useCalSection=main
DTSTART:20350117T220000Z
DTEND:20350117T220000Z
DTSTAMP:20260419T220907
TRIGGER:-PT60M
END:VEVENT
END:VCALENDAR
