BEGIN:VCALENDAR
VERSION:2.0
CALSCALE:GREGORIAN
PRODID:UnionActive
BEGIN:VEVENT
UID:11839485@ibew2.org
SUMMARY:Callaway Electric Cooperative Unit Meeting
DESCRIPTION:Contact:  \nLink for more information: http://ibew2.org/index.cfm?zone=/unionactive/view_calendar.cfm&calendarID=11839485&thisdate=07/20/2033&useCalSection=main
LOCATION:
URL:http://ibew2.org/index.cfm?zone=/unionactive/view_calendar.cfm&calendarID=11839485&thisdate=07/20/2033&useCalSection=main
DTSTART:20330720T210000Z
DTEND:20330720T210000Z
DTSTAMP:20260419T100859
TRIGGER:-PT60M
END:VEVENT
END:VCALENDAR
