BEGIN:VCALENDAR
VERSION:2.0
CALSCALE:GREGORIAN
PRODID:UnionActive
BEGIN:VEVENT
UID:11839480@ibew2.org
SUMMARY:Callaway Electric Cooperative Unit Meeting
DESCRIPTION:Contact:  \nLink for more information: http://ibew2.org/index.cfm?zone=/unionactive/view_calendar.cfm&calendarID=11839480&thisdate=09/15/2032&useCalSection=main
LOCATION:
URL:http://ibew2.org/index.cfm?zone=/unionactive/view_calendar.cfm&calendarID=11839480&thisdate=09/15/2032&useCalSection=main
DTSTART:20320915T210000Z
DTEND:20320915T210000Z
DTSTAMP:20260419T151233
TRIGGER:-PT60M
END:VEVENT
END:VCALENDAR
