BEGIN:VCALENDAR
VERSION:2.0
CALSCALE:GREGORIAN
PRODID:UnionActive
BEGIN:VEVENT
UID:11839433@ibew2.org
SUMMARY:Callaway Electric Cooperative Unit Meeting
DESCRIPTION:Contact:  \nLink for more information: http://ibew2.org/index.cfm?zone=/unionactive/view_calendar.cfm&calendarID=11839433&thisdate=11/20/2024&useCalSection=main
LOCATION:
URL:http://ibew2.org/index.cfm?zone=/unionactive/view_calendar.cfm&calendarID=11839433&thisdate=11/20/2024&useCalSection=main
DTSTART:20241120T220000Z
DTEND:20241120T220000Z
DTSTAMP:20260419T151419
TRIGGER:-PT60M
END:VEVENT
END:VCALENDAR
