BEGIN:VCALENDAR
VERSION:2.0
CALSCALE:GREGORIAN
PRODID:UnionActive
BEGIN:VEVENT
UID:11839406@ibew2.org
SUMMARY:Tri-County Electric Cooperative Unit Meeting
DESCRIPTION:Contact:  \nLink for more information: http://ibew2.org/index.cfm?zone=/unionactive/view_calendar.cfm&calendarID=11839406&thisdate=05/11/2045&useCalSection=main
LOCATION:
URL:http://ibew2.org/index.cfm?zone=/unionactive/view_calendar.cfm&calendarID=11839406&thisdate=05/11/2045&useCalSection=main
DTSTART:20450511T213000Z
DTEND:20450511T213000Z
DTSTAMP:20260419T132353
TRIGGER:-PT60M
END:VEVENT
END:VCALENDAR
