BEGIN:VCALENDAR
VERSION:2.0
CALSCALE:GREGORIAN
PRODID:UnionActive
BEGIN:VEVENT
UID:11839391@ibew2.org
SUMMARY:Tri-County Electric Cooperative Unit Meeting
DESCRIPTION:Contact:  \nLink for more information: http://ibew2.org/index.cfm?zone=/unionactive/view_calendar.cfm&calendarID=11839391&thisdate=11/13/2042&useCalSection=main
LOCATION:
URL:http://ibew2.org/index.cfm?zone=/unionactive/view_calendar.cfm&calendarID=11839391&thisdate=11/13/2042&useCalSection=main
DTSTART:20421113T223000Z
DTEND:20421113T223000Z
DTSTAMP:20260419T165828
TRIGGER:-PT60M
END:VEVENT
END:VCALENDAR
