BEGIN:VCALENDAR
VERSION:2.0
CALSCALE:GREGORIAN
PRODID:UnionActive
BEGIN:VEVENT
UID:11839390@ibew2.org
SUMMARY:Tri-County Electric Cooperative Unit Meeting
DESCRIPTION:Contact:  \nLink for more information: http://ibew2.org/index.cfm?zone=/unionactive/view_calendar.cfm&calendarID=11839390&thisdate=09/11/2042&useCalSection=main
LOCATION:
URL:http://ibew2.org/index.cfm?zone=/unionactive/view_calendar.cfm&calendarID=11839390&thisdate=09/11/2042&useCalSection=main
DTSTART:20420911T213000Z
DTEND:20420911T213000Z
DTSTAMP:20260419T133356
TRIGGER:-PT60M
END:VEVENT
END:VCALENDAR
