BEGIN:VCALENDAR
VERSION:2.0
CALSCALE:GREGORIAN
PRODID:UnionActive
BEGIN:VEVENT
UID:11839383@ibew2.org
SUMMARY:Tri-County Electric Cooperative Unit Meeting
DESCRIPTION:Contact:  \nLink for more information: http://ibew2.org/index.cfm?zone=/unionactive/view_calendar.cfm&calendarID=11839383&thisdate=07/11/2041&useCalSection=main
LOCATION:
URL:http://ibew2.org/index.cfm?zone=/unionactive/view_calendar.cfm&calendarID=11839383&thisdate=07/11/2041&useCalSection=main
DTSTART:20410711T213000Z
DTEND:20410711T213000Z
DTSTAMP:20260419T201957
TRIGGER:-PT60M
END:VEVENT
END:VCALENDAR
