BEGIN:VCALENDAR
VERSION:2.0
CALSCALE:GREGORIAN
PRODID:UnionActive
BEGIN:VEVENT
UID:11839376@ibew2.org
SUMMARY:Tri-County Electric Cooperative Unit Meeting
DESCRIPTION:Contact:  \nLink for more information: http://ibew2.org/index.cfm?zone=/unionactive/view_calendar.cfm&calendarID=11839376&thisdate=05/10/2040&useCalSection=main
LOCATION:
URL:http://ibew2.org/index.cfm?zone=/unionactive/view_calendar.cfm&calendarID=11839376&thisdate=05/10/2040&useCalSection=main
DTSTART:20400510T213000Z
DTEND:20400510T213000Z
DTSTAMP:20260419T201015
TRIGGER:-PT60M
END:VEVENT
END:VCALENDAR
