BEGIN:VCALENDAR
VERSION:2.0
CALSCALE:GREGORIAN
PRODID:UnionActive
BEGIN:VEVENT
UID:11839359@ibew2.org
SUMMARY:Tri-County Electric Cooperative Unit Meeting
DESCRIPTION:Contact:  \nLink for more information: http://ibew2.org/index.cfm?zone=/unionactive/view_calendar.cfm&calendarID=11839359&thisdate=07/09/2037&useCalSection=main
LOCATION:
URL:http://ibew2.org/index.cfm?zone=/unionactive/view_calendar.cfm&calendarID=11839359&thisdate=07/09/2037&useCalSection=main
DTSTART:20370709T213000Z
DTEND:20370709T213000Z
DTSTAMP:20260419T170246
TRIGGER:-PT60M
END:VEVENT
END:VCALENDAR
