BEGIN:VCALENDAR
VERSION:2.0
CALSCALE:GREGORIAN
PRODID:UnionActive
BEGIN:VEVENT
UID:11839350@ibew2.org
SUMMARY:Tri-County Electric Cooperative Unit Meeting
DESCRIPTION:Contact:  \nLink for more information: http://ibew2.org/index.cfm?zone=/unionactive/view_calendar.cfm&calendarID=11839350&thisdate=01/10/2036&useCalSection=main
LOCATION:
URL:http://ibew2.org/index.cfm?zone=/unionactive/view_calendar.cfm&calendarID=11839350&thisdate=01/10/2036&useCalSection=main
DTSTART:20360110T223000Z
DTEND:20360110T223000Z
DTSTAMP:20260419T170112
TRIGGER:-PT60M
END:VEVENT
END:VCALENDAR
